BEGIN:VCALENDAR
VERSION:2.0
PRODID:-//wp-events-plugin.com//7.2.3.1//EN
BEGIN:VEVENT
UID:29@gael29.com
DTSTART:20221123T080000Z
DTEND:20221123T100000Z
DTSTAMP:20221111T111210Z
URL:https://gael29.com/documentation-beneficiaires/events/logiciel-de-gest
 ion-restauration/
SUMMARY:LOGICIEL DE GESTION RESTAURATION
DESCRIPTION:Présentation le 23 novembre\, à l'entreprise KOUST\, du logic
 iel de gestion en restauration. Un essai gratuit de 6 mois (à partir de j
 anvier 2023) est proposé aux établissements intéressés.\n\nInscrivez-v
 ous ici\n\nPour ceux qui le souhaitent\, nous vous proposons de débriefer
  à l'issue de cette présentation en déjeunant ensemble (à la charge de
  chacun).
CATEGORIES:Tous les établissements FINISTERE
END:VEVENT
END:VCALENDAR